BEGIN:VCALENDAR
VERSION:2.0
PRODID:spatie/icalendar-generator
DESCRIPTION:Events from Hsi Fang Temple
X-WR-CALDESC:Events from Hsi Fang Temple
REFRESH-INTERVAL;VALUE=DURATION:PT1440M
X-PUBLISHED-TTL:PT1440M
BEGIN:VTIMEZONE
TZID:America/Los_Angeles
BEGIN:STANDARD
DTSTART:20261101T020000Z
TZOFFSETFROM:-0700
TZOFFSETTO:-0800
END:STANDARD
BEGIN:DAYLIGHT
DTSTART:20270314T020000Z
TZOFFSETFROM:-0800
TZOFFSETTO:-0700
END:DAYLIGHT
END:VTIMEZONE
BEGIN:VTIMEZONE
TZID:UTC
BEGIN:STANDARD
DTSTART:20250727T162002Z
TZOFFSETFROM:+0000
TZOFFSETTO:+0000
END:STANDARD
END:VTIMEZONE
BEGIN:VEVENT
UID:114-74
DTSTAMP:20260423T162002Z
SUMMARY:One Day Retreat
LOCATION:Hsi Fang Temple 4536 Park Blvd  San Diego CA 92116
ORGANIZER;CN=Hsi Fang:MAILTO:sandiego@ibps.org
DTSTART;TZID=America/Los_Angeles:20261205T100000
DTEND;TZID=America/Los_Angeles:20261205T160000
X-ALT-DESC;FMTTYPE=TEXT/HTML:Please RSVP! &amp;nbsp\; &amp;nbsp\; Support the templ
 e:  We are deeply grateful for your generosity and support in our mission
  to provide free educational programs for all. Your contributions empower 
 us to share the Buddha's wisdom\, inspire growth\, and create opportunitie
 s for everyone\, regardless of their means. Together\, we can continue to
  make learning accessible and impactful&amp;hellip\;
CATEGORIES:General
URL;VALUE=URI:https://hsifangtemple.org/en/mc-events/one-day-retreat-3/
METHOD:PUBLISH
END:VEVENT
END:VCALENDAR