BEGIN:VCALENDAR
VERSION:2.0
PRODID:spatie/icalendar-generator
DESCRIPTION:Events from Hsi Fang Temple
X-WR-CALDESC:Events from Hsi Fang Temple
REFRESH-INTERVAL;VALUE=DURATION:PT1440M
X-PUBLISHED-TTL:PT1440M
BEGIN:VTIMEZONE
TZID:America/Los_Angeles
BEGIN:DAYLIGHT
DTSTART:20250309T020000Z
TZOFFSETFROM:-0800
TZOFFSETTO:-0700
END:DAYLIGHT
BEGIN:STANDARD
DTSTART:20251102T020000Z
TZOFFSETFROM:-0700
TZOFFSETTO:-0800
END:STANDARD
BEGIN:DAYLIGHT
DTSTART:20260308T020000Z
TZOFFSETFROM:-0800
TZOFFSETTO:-0700
END:DAYLIGHT
END:VTIMEZONE
BEGIN:VTIMEZONE
TZID:UTC
BEGIN:STANDARD
DTSTART:20250727T173409Z
TZOFFSETFROM:+0000
TZOFFSETTO:+0000
END:STANDARD
END:VTIMEZONE
BEGIN:VEVENT
UID:3-2
DTSTAMP:20260423T173409Z
SUMMARY:Medicine Buddha Prayer Service
LOCATION:Hsi Fang Temple 4536 Park Blvd  San Diego CA 92116
ORGANIZER;CN=Hsi Fang:MAILTO:sandiego@ibps.org
RRULE:FREQ=DAILY;UNTIL=20251117T000000Z
DTSTART;TZID=America/Los_Angeles:20251115T103000
DTEND;TZID=America/Los_Angeles:20251115T160000
X-ALT-DESC;FMTTYPE=TEXT/HTML:
CATEGORIES:Dharma Service
URL;VALUE=URI:https://hsifangtemple.org/en/mc-events/medicine-buddha-prayer
 -service/?mc_id=3
METHOD:PUBLISH
END:VEVENT
END:VCALENDAR