BEGIN:VCALENDAR
VERSION:2.0
PRODID:spatie/icalendar-generator
DESCRIPTION:Events from Hsi Fang Temple
X-WR-CALDESC:Events from Hsi Fang Temple
REFRESH-INTERVAL;VALUE=DURATION:PT1440M
X-PUBLISHED-TTL:PT1440M
BEGIN:VTIMEZONE
TZID:America/Los_Angeles
BEGIN:STANDARD
DTSTART:20251102T020000Z
TZOFFSETFROM:-0700
TZOFFSETTO:-0800
END:STANDARD
BEGIN:DAYLIGHT
DTSTART:20260308T020000Z
TZOFFSETFROM:-0800
TZOFFSETTO:-0700
END:DAYLIGHT
BEGIN:STANDARD
DTSTART:20261101T020000Z
TZOFFSETFROM:-0700
TZOFFSETTO:-0800
END:STANDARD
END:VTIMEZONE
BEGIN:VTIMEZONE
TZID:UTC
BEGIN:STANDARD
DTSTART:20250727T230841Z
TZOFFSETFROM:+0000
TZOFFSETTO:+0000
END:STANDARD
END:VTIMEZONE
BEGIN:VEVENT
UID:369-78
DTSTAMP:20260423T230841Z
SUMMARY:A moment of silence
LOCATION:Hsi Fang Temple 4536 Park Blvd  San Diego CA 92116
ORGANIZER;CN=Hsi Fang:MAILTO:sandiego@ibps.org
RRULE:FREQ=WEEKLY;UNTIL=20270101T000000Z
DTSTART;TZID=America/Los_Angeles:20260721T140000
DTEND;TZID=America/Los_Angeles:20260724T160000
X-ALT-DESC;FMTTYPE=TEXT/HTML:Give yourself a moment of silence and groundin
 g at the temple. This is the time for you to do some grounding and mind-to
 -mind connection with the Buddha. There is no guidance or instruction\, it
  is simply an opportunity to sit quietly with others. You may come anytime
  during this hour. It does not have a&amp;hellip\;
CATEGORIES:General
URL;VALUE=URI:https://hsifangtemple.org/en/mc-events/a-moment-of-silence/?m
 c_id=369
METHOD:PUBLISH
END:VEVENT
END:VCALENDAR