BEGIN:VCALENDAR
VERSION:2.0
PRODID:spatie/icalendar-generator
DESCRIPTION:Events from Hsi Fang Temple
X-WR-CALDESC:Events from Hsi Fang Temple
REFRESH-INTERVAL;VALUE=DURATION:PT1440M
X-PUBLISHED-TTL:PT1440M
BEGIN:VTIMEZONE
TZID:America/Los_Angeles
BEGIN:STANDARD
DTSTART:20251102T020000Z
TZOFFSETFROM:-0700
TZOFFSETTO:-0800
END:STANDARD
BEGIN:DAYLIGHT
DTSTART:20260308T020000Z
TZOFFSETFROM:-0800
TZOFFSETTO:-0700
END:DAYLIGHT
END:VTIMEZONE
BEGIN:VTIMEZONE
TZID:UTC
BEGIN:STANDARD
DTSTART:20250727T234224Z
TZOFFSETFROM:+0000
TZOFFSETTO:+0000
END:STANDARD
END:VTIMEZONE
BEGIN:VEVENT
UID:403-80
DTSTAMP:20260423T234224Z
SUMMARY:Open Sitting Meditation
LOCATION:Hsi Fang Temple 4536 Park Blvd  San Diego CA 92116
ORGANIZER;CN=Hsi Fang:MAILTO:sandiego@ibps.org
RRULE:FREQ=DAILY;UNTIL=20251227T000000Z
DTSTART;TZID=America/Los_Angeles:20251226T100000
DTEND;TZID=America/Los_Angeles:20251226T110000
X-ALT-DESC;FMTTYPE=TEXT/HTML:Open sitting Meditation Tuesday through Friday
 \, 10am -4pm. Everyone is welcome to visit.
CATEGORIES:General
URL;VALUE=URI:https://hsifangtemple.org/en/mc-events/open-sitting-meditatio
 n-2/?mc_id=403
METHOD:PUBLISH
END:VEVENT
END:VCALENDAR