BEGIN:VCALENDAR
VERSION:2.0
PRODID:spatie/icalendar-generator
DESCRIPTION:Events from Hsi Fang Temple
X-WR-CALDESC:Events from Hsi Fang Temple
REFRESH-INTERVAL;VALUE=DURATION:PT1440M
X-PUBLISHED-TTL:PT1440M
BEGIN:VTIMEZONE
TZID:America/Los_Angeles
BEGIN:STANDARD
DTSTART:20251102T020000Z
TZOFFSETFROM:-0700
TZOFFSETTO:-0800
END:STANDARD
BEGIN:DAYLIGHT
DTSTART:20260308T020000Z
TZOFFSETFROM:-0800
TZOFFSETTO:-0700
END:DAYLIGHT
BEGIN:STANDARD
DTSTART:20261101T020000Z
TZOFFSETFROM:-0700
TZOFFSETTO:-0800
END:STANDARD
END:VTIMEZONE
BEGIN:VTIMEZONE
TZID:UTC
BEGIN:STANDARD
DTSTART:20250727T141155Z
TZOFFSETFROM:+0000
TZOFFSETTO:+0000
END:STANDARD
END:VTIMEZONE
BEGIN:VEVENT
UID:500-9
DTSTAMP:20260423T141155Z
SUMMARY:Applied Buddhism &amp;amp\; Meditation Courses
LOCATION:
ORGANIZER;CN=Hsi Fang:MAILTO:sandiego@ibps.org
RRULE:FREQ=WEEKLY;UNTIL=20260731T000000Z
DTSTART;TZID=America/Los_Angeles:20260502T140000
DTEND;TZID=America/Los_Angeles:20260502T160000
X-ALT-DESC;FMTTYPE=TEXT/HTML:For more info and to register: https://docs.go
 ogle.com/forms/d/e/1FAIpQLSd9xQsDioH-1NWaB7gWeM5bwiXI7I_yV2N30GMY8yvk1-DGb
 g/viewform?usp=dialog Hsi Fang Temple offers two classes in English\, one 
 on the core teachings of the Buddha\, and one on meditation practices. We 
 would love to have you join our study group. Everyone is welcome! Classes 
 meet once a week on Saturdays and are held concurrently with a short&amp;helli
 p\;
CATEGORIES:General
URL;VALUE=URI:https://hsifangtemple.org/en/mc-events/applied-buddhism-medit
 ation-courses/?mc_id=500
METHOD:PUBLISH
END:VEVENT
END:VCALENDAR