BEGIN:VCALENDAR
VERSION:2.0
PRODID:spatie/icalendar-generator
DESCRIPTION:Events from Hsi Fang Temple
X-WR-CALDESC:Events from Hsi Fang Temple
REFRESH-INTERVAL;VALUE=DURATION:PT1440M
X-PUBLISHED-TTL:PT1440M
BEGIN:VTIMEZONE
TZID:America/Los_Angeles
BEGIN:STANDARD
DTSTART:20251102T020000Z
TZOFFSETFROM:-0700
TZOFFSETTO:-0800
END:STANDARD
BEGIN:DAYLIGHT
DTSTART:20260308T020000Z
TZOFFSETFROM:-0800
TZOFFSETTO:-0700
END:DAYLIGHT
END:VTIMEZONE
BEGIN:VTIMEZONE
TZID:UTC
BEGIN:STANDARD
DTSTART:20250727T150855Z
TZOFFSETFROM:+0000
TZOFFSETTO:+0000
END:STANDARD
END:VTIMEZONE
BEGIN:VEVENT
UID:524-63
DTSTAMP:20260423T150855Z
SUMMARY:Thank Buddha It's Friday (TBIF)
LOCATION:Hsi Fang Temple 4536 Park Blvd  San Diego CA 92116
ORGANIZER;CN=Hsi Fang:MAILTO:sandiego@ibps.org
DTSTART;TZID=America/Los_Angeles:20260424T183000
DTEND;TZID=America/Los_Angeles:20260424T203000
X-ALT-DESC;FMTTYPE=TEXT/HTML:Lecture in English with meditation &amp;amp\; ligh
 t dinner. (Every last Friday of the month) Please RSVP! &amp;nbsp\; Support th
 e temple:  We are deeply grateful for your generosity and support in our 
 mission to provide free educational programs for all. Your contributions e
 mpower us to share the Buddha's wisdom\, inspire growth\, and create oppor
 tunities for everyone\,&amp;hellip\;
CATEGORIES:General
URL;VALUE=URI:https://hsifangtemple.org/en/mc-events/thank-buddha-its-frida
 y-tbif-2/
METHOD:PUBLISH
END:VEVENT
END:VCALENDAR