BEGIN:VCALENDAR
VERSION:2.0
PRODID:spatie/icalendar-generator
DESCRIPTION:Events from Hsi Fang Temple
X-WR-CALDESC:Events from Hsi Fang Temple
REFRESH-INTERVAL;VALUE=DURATION:PT1440M
X-PUBLISHED-TTL:PT1440M
BEGIN:VTIMEZONE
TZID:America/Los_Angeles
BEGIN:DAYLIGHT
DTSTART:20260308T020000Z
TZOFFSETFROM:-0800
TZOFFSETTO:-0700
END:DAYLIGHT
BEGIN:STANDARD
DTSTART:20261101T020000Z
TZOFFSETFROM:-0700
TZOFFSETTO:-0800
END:STANDARD
BEGIN:DAYLIGHT
DTSTART:20270314T020000Z
TZOFFSETFROM:-0800
TZOFFSETTO:-0700
END:DAYLIGHT
END:VTIMEZONE
BEGIN:VTIMEZONE
TZID:UTC
BEGIN:STANDARD
DTSTART:20250727T173237Z
TZOFFSETFROM:+0000
TZOFFSETTO:+0000
END:STANDARD
END:VTIMEZONE
BEGIN:VEVENT
UID:101-61
DTSTAMP:20260423T173237Z
SUMMARY:American Red Cross Blood Drive
LOCATION:Hsi Fang Temple 4536 Park Blvd  San Diego CA 92116
ORGANIZER;CN=Hsi Fang:MAILTO:sandiego@ibps.org
DTSTART;TZID=America/Los_Angeles:20261202T120000
DTEND;TZID=America/Los_Angeles:20261202T180000
X-ALT-DESC;FMTTYPE=TEXT/HTML:Come donate blood at the Hsi Fang temple For m
 ore info and to register: Schedule a Blood\, Platelet or Plasma Donation |
  American Red Cross
CATEGORIES:Classes
URL;VALUE=URI:https://hsifangtemple.org/en/mc-events/american-red-cross-blo
 od-drive-3/
METHOD:PUBLISH
END:VEVENT
END:VCALENDAR