BEGIN:VCALENDAR
VERSION:2.0
PRODID:spatie/icalendar-generator
DESCRIPTION:Events from Hsi Fang Temple
X-WR-CALDESC:Events from Hsi Fang Temple
REFRESH-INTERVAL;VALUE=DURATION:PT1440M
X-PUBLISHED-TTL:PT1440M
BEGIN:VTIMEZONE
TZID:America/Los_Angeles
BEGIN:STANDARD
DTSTART:20251102T020000Z
TZOFFSETFROM:-0700
TZOFFSETTO:-0800
END:STANDARD
BEGIN:DAYLIGHT
DTSTART:20260308T020000Z
TZOFFSETFROM:-0800
TZOFFSETTO:-0700
END:DAYLIGHT
END:VTIMEZONE
BEGIN:VTIMEZONE
TZID:UTC
BEGIN:STANDARD
DTSTART:20250727T200145Z
TZOFFSETFROM:+0000
TZOFFSETTO:+0000
END:STANDARD
END:VTIMEZONE
BEGIN:VEVENT
UID:513-57
DTSTAMP:20260423T200145Z
SUMMARY:Lunar New Year Celebration
LOCATION:Hsi Fang Temple 4536 Park Blvd  San Diego CA 92116
ORGANIZER;CN=Hsi Fang:MAILTO:sandiego@ibps.org
DTSTART;TZID=America/Los_Angeles:20260217T090000
DTEND;TZID=America/Los_Angeles:20260301T170000
X-ALT-DESC;FMTTYPE=TEXT/HTML:Annual light &amp;amp\; incense\, red envelopes\, 
 new year blessings and Lunar New Year Special Exhibitions
CATEGORIES:General
URL;VALUE=URI:https://hsifangtemple.org/en/mc-events/lunar-new-year-celebra
 tion/
METHOD:PUBLISH
END:VEVENT
END:VCALENDAR