BEGIN:VCALENDAR
VERSION:2.0
PRODID:spatie/icalendar-generator
DESCRIPTION:Events from Hsi Fang Temple
X-WR-CALDESC:Events from Hsi Fang Temple
REFRESH-INTERVAL;VALUE=DURATION:PT1440M
X-PUBLISHED-TTL:PT1440M
BEGIN:VTIMEZONE
TZID:America/Los_Angeles
BEGIN:STANDARD
DTSTART:20251102T020000Z
TZOFFSETFROM:-0700
TZOFFSETTO:-0800
END:STANDARD
BEGIN:DAYLIGHT
DTSTART:20260308T020000Z
TZOFFSETFROM:-0800
TZOFFSETTO:-0700
END:DAYLIGHT
END:VTIMEZONE
BEGIN:VTIMEZONE
TZID:UTC
BEGIN:STANDARD
DTSTART:20250727T200146Z
TZOFFSETFROM:+0000
TZOFFSETTO:+0000
END:STANDARD
END:VTIMEZONE
BEGIN:VEVENT
UID:99-59
DTSTAMP:20260423T200146Z
SUMMARY:Ven. Master Hsing Yun's Renunciation Day Service &amp;amp\; Devotees' G
 athering
LOCATION:Hsi Fang Temple 4536 Park Blvd  San Diego CA 92116
ORGANIZER;CN=Hsi Fang:MAILTO:sandiego@ibps.org
DTSTART;TZID=America/Los_Angeles:20260315T103000
DTEND;TZID=America/Los_Angeles:20260315T120000
X-ALT-DESC;FMTTYPE=TEXT/HTML:
CATEGORIES:Dharma Service
URL;VALUE=URI:https://hsifangtemple.org/en/mc-events/ven-master-hsing-yuns-
 renunciation-day-service-devotees-gathering/
METHOD:PUBLISH
END:VEVENT
END:VCALENDAR